BEGIN:VCALENDAR
METHOD:PUBLISH
VERSION:2.0
PRODID:-//Eventilla iCal Syndication//NONSGML Liana//EN
BEGIN:VEVENT
UID:krGwd@eventilla.com
DTSTAMP:20251027T063000Z
DTSTART:20251027T063000Z
DTEND:20251027T140000Z
SUMMARY:Ensiapukurssi 8h / 4h (Oulu)
DESCRIPTION:ENSIAPUKURSSI 8h/4h\nHuom! 4h koulutus klo 8.30-12.00\nEnsiapukortti on voimassa kolme (3) vuotta.\nEnsiapukurssin päivitys / kertaus Ensiavun peruskurssin (EA1) voi päivittää yhden kerran\, joko neljän tai kahdeksan tunnin hätäensiapukurssilla. Ensiapukortin voi päivittää kuukauden sisällä sen voimassaolon päättymisen jälkeen\, mikäli pätevyys ehtii vanhentua. Pidäthän huolen ensiaputaitojen säännöllisestä päivityksestä!\n8h koulutuksesta saa yhden (1) ammattipätevyysmerkinnän.\nKoulutusten sisältö:\n
LOCATION:Fast Oy\, Kiilletie 1\, 90620\, Oulu\, Suomi
URL:http://koulutukset.fastoy.fi/event/krGwd
END:VEVENT
END:VCALENDAR
