BEGIN:VCALENDAR
METHOD:PUBLISH
VERSION:2.0
PRODID:-//Eventilla iCal Syndication//NONSGML Liana//EN
BEGIN:VEVENT
UID:OoB1Y@eventilla.com
DTSTAMP:20251106T063000Z
DTSTART:20251106T063000Z
DTEND:20251107T140000Z
SUMMARY:Ensiapukurssi 16h / EA 8h / EA 4h (Oulu)
DESCRIPTION:ENSIAPUKURSSI 16h/8h/4h\nHuom! 4h koulutus klo 8.30-12.00\nEnsiapukortti on voimassa kolme (3) vuotta.\nEnsiapukurssin päivitys / kertaus Ensiavun peruskurssin (EA1) voi päivittää yhden kerran\, joko neljän tai kahdeksan tunnin hätäensiapukurssilla. Ensiapukortin voi päivittää kuukauden sisällä sen voimassaolon päättymisen jälkeen\, mikäli pätevyys ehtii vanhentua. Pidäthän huolen ensiaputaitojen säännöllisestä päivityksestä!\n16h koulutuksesta on mahdollista saada kaksi (2) kuorma- ja linja-autonkuljettajan ammattipätevyysmerkintää. 8h koulutuksesta saa yhden (1) ammattipätevyysmerkinnän.\nKoulutusten sisältö:\n
LOCATION:Fast Oy\, Kiilletie 1\, 90620\, Oulu\, Suomi
URL:http://koulutukset.fastoy.fi/event/OoB1Y
END:VEVENT
END:VCALENDAR
